BEGIN:VCALENDAR
VERSION:2.0
PRODID:-//Plone.org//NONSGML plone.app.event//EN
X-WR-TIMEZONE:US/Central
BEGIN:VEVENT
SUMMARY:Medicare Seminar the 2nd Tuesday every other month at 1:30
DTSTART;TZID=US/Central:20251111T133000
DTEND;TZID=US/Central:20251111T143000
DTSTAMP:20260420T092406Z
UID:e847d8f80e9d48a3b0a1101eac7566cf@saas_stack_varnish:6080
CONTACT:Holly and Regan Felker\, (682) 551-2741
CREATED:20231130T173045Z
DESCRIPTION:Whether you need to enroll in Medicare\, need to make changes\
 , or just have questions\, our Medicare seminars are designed to provide t
 he help you need. They are always free. No pressure\, no sales. Guaranteed
 .
LAST-MODIFIED:20250829T175424Z
LOCATION:Rhome Community Library Activity Room
URL:https://www.rhomelibrary.org/news-events/events/medicare-seminar/2025-
 11-11
END:VEVENT
BEGIN:VTIMEZONE
TZID:US/Central
X-LIC-LOCATION:US/Central
BEGIN:STANDARD
DTSTART:20251102T010000
TZNAME:CST
TZOFFSETFROM:-0500
TZOFFSETTO:-0600
END:STANDARD
END:VTIMEZONE
END:VCALENDAR
